BEGIN:VCALENDAR
VERSION:2.0
METHOD:PUBLISH
PRODID:-//Accessible Web Design//My Calendar//http://www.joedolson.com//v//EN';
BEGIN:VEVENT
UID:3-3
LOCATION:University of Botswana Theatre Studio 4775 Notwane Road  Gaborone
SUMMARY:Mind Your Step Pablo %8 Show
DTSTAMP:20230901T170000
ORGANIZER;CN=Editor:MAILTO:admin@childof.africa
DTSTART:20230901T170000
DTEND:20230901T210000
CATEGORIES:General
URL;VALUE=URI:https://childof.africa/mc-events/mind-your-step-pablo-8-show/?mc_id=3
DESCRIPTION:
END:VEVENT
END:VCALENDAR