BEGIN:VCALENDAR
VERSION:2.0
METHOD:PUBLISH
PRODID:-//Accessible Web Design//My Calendar//http://www.joedolson.com//v//EN';
BEGIN:VEVENT
UID:2-2
LOCATION:University of Botswana Library Auditorium 4775 Notwane Road  Gaborone
SUMMARY:The Making of Los Noir
DTSTAMP:20231001T150000
ORGANIZER;CN=Editor:MAILTO:admin@childof.africa
DTSTART:20231001T150000
DTEND:20231001T170000
CATEGORIES:Poetry
URL;VALUE=URI:https://childof.africa/mc-events/the-making-of-los-noir/?mc_id=2
DESCRIPTION:
END:VEVENT
END:VCALENDAR